BEGIN:VCALENDAR
VERSION:2.0
PRODID:-//CHAMBER DASHBOARD//EVENTS CALENDAR2.0//EN
CALSCALE:GREGORIAN
BEGIN:VEVENT
DTEND:20220704
UID:69e73127dbcae
DTSTAMP:20260421T081119Z
DESCRIPTION:Fireworks subject to change due to dry/inclement weather. Firework show will be shot from North of town at sunset.
URL;VALUE=URI:https://www.ulysseschamber.org/event/july-4th-festivities-and-firework-show/
SUMMARY:July 4th Festivities and Firework Show
DTSTART:20220704
END:VEVENT
END:VCALENDAR
